BEGIN:VCALENDAR
VERSION:2.0
PRODID:-//ALIA WALT - ECPv6.15.20//NONSGML v1.0//EN
CALSCALE:GREGORIAN
METHOD:PUBLISH
X-WR-CALNAME:ALIA WALT
X-ORIGINAL-URL:https://aliawalt.alia.org.au
X-WR-CALDESC:Events for ALIA WALT
REFRESH-INTERVAL;VALUE=DURATION:PT1H
X-Robots-Tag:noindex
X-PUBLISHED-TTL:PT1H
BEGIN:VTIMEZONE
TZID:Australia/Perth
BEGIN:STANDARD
TZOFFSETFROM:+0800
TZOFFSETTO:+0800
TZNAME:AWST
DTSTART:20230101T000000
END:STANDARD
END:VTIMEZONE
BEGIN:VEVENT
DTSTART;TZID=Australia/Perth:20250802T110000
DTEND;TZID=Australia/Perth:20250802T150000
DTSTAMP:20260415T092329
CREATED:20250726T050948Z
LAST-MODIFIED:20250726T053345Z
UID:415-1754132400-1754146800@aliawalt.alia.org.au
SUMMARY:Connect More with WALT
DESCRIPTION:The WA Library Technicians Group invites you to come play some board games with us! \nWhen: Saturday 2nd August 11am – 3pm\nWhere: Pilbara Room\, State Library of WA\nCost: Free! \nBring yourself and some friends! We will have plenty of board games set up and ready to go\, with professionals to help learn the ropes for each game before diving in.
URL:https://aliawalt.alia.org.au/event/connect-more-with-walt/
LOCATION:Pilbara Room\, State Library of WA\, 25 Francis Street\, Perth\, WA\, 6000\, Australia
ATTACH;FMTTYPE=image/png:https://aliawalt.alia.org.au/wp-content/uploads/2025/07/Connect-More-Board-Game-Day-1.png
ORGANIZER;CN="ALIA WALT":MAILTO:walibtech@gmail.com
END:VEVENT
BEGIN:VEVENT
DTSTART;TZID=Australia/Perth:20250729T190000
DTEND;TZID=Australia/Perth:20250729T190000
DTSTAMP:20260415T092329
CREATED:20250607T075332Z
LAST-MODIFIED:20250607T075940Z
UID:360-1753815600-1753815600@aliawalt.alia.org.au
SUMMARY:ALIA WALT Library Technician's Day Dinner 2025
DESCRIPTION:The ALIA WA Library Technicians (WALT) Group invites you to join us in celebrating Library & Information Week\, and the role of Library Technicians and all other Library staff in the industry. \nDate: Tuesday the 29th of July\nTime: 7:00pm onwards\nVenue: Bayswater Hotel\, 78-80 Railway Parade\, Bayswater\, WA 6053\nPrice: Pay for your own meal \nAll who are working in\, or are interested in working in libraries are welcome to join! \nPlease RSVP (link below) as soon as you can.\nWe hope to see you there! \nContact WALT using the email address below for further information.
URL:https://aliawalt.alia.org.au/event/ltdd25/
LOCATION:Bayswater Hotel\, 78-80 Railway Parade\, Bayswater\, WA\, 6053\, Australia
ATTACH;FMTTYPE=image/png:https://aliawalt.alia.org.au/wp-content/uploads/2025/06/WALTLTDD25.png
ORGANIZER;CN="ALIA WALT":MAILTO:walibtech@gmail.com
END:VEVENT
BEGIN:VEVENT
DTSTART;TZID=Australia/Perth:20250701T180000
DTEND;TZID=Australia/Perth:20250701T180000
DTSTAMP:20260415T092329
CREATED:20250530T031858Z
LAST-MODIFIED:20250624T074513Z
UID:352-1751392800-1751392800@aliawalt.alia.org.au
SUMMARY:ALIA WALT's Annual General Meeting 2025
DESCRIPTION:Join ALIA WA Library Technicians for our 2025 AGM! \nJoin us on the 1st of July 2025 at 6:00pm (postponed from the original date of the 24th of June)\, we’ll be meeting in the State Library of WA’s Geographe Room. \nAll are welcome to attend\, and join as a member if you wish! \nAttendance and membership are both free. \nPlease RSVP below if you’d like to attend. \nWe hope to see you there!
URL:https://aliawalt.alia.org.au/event/agm2025/
LOCATION:Geographe Room\, State Libray of WA\, 25 Francis Street\, Perth\, Western Australia\, 6000\, Australia
ATTACH;FMTTYPE=image/png:https://aliawalt.alia.org.au/wp-content/uploads/2025/05/AGM-Banner-scaled.png
ORGANIZER;CN="ALIA WALT":MAILTO:walibtech@gmail.com
END:VEVENT
BEGIN:VEVENT
DTSTART;TZID=Australia/Perth:20250222T120000
DTEND;TZID=Australia/Perth:20250222T120000
DTSTAMP:20260415T092329
CREATED:20250206T061218Z
LAST-MODIFIED:20250206T061218Z
UID:324-1740225600-1740225600@aliawalt.alia.org.au
SUMMARY:WALT's 45th Birthday Potluck
DESCRIPTION:Please join us in celebrating the ALIA WA Library Technicians Group’s 45th birthday! \nFounded in 1979\, the ALIA WALT Group has assisted countless folks in the GLAMR sector throughout the years. We want to give back and host a celebration for their incredible history and efforts.\n \nThe event will be a potluck – please bring a plate\, and include any relevant dietary and allergen information. \nCoffee and tea will be provided\, but we’d appreciate a gold coin donation to help us provide coffee and tea at future events. \nPlease RSVP using the link below by the 20th of February 2025. \nHope to see you there!
URL:https://aliawalt.alia.org.au/event/walts-45th-birthday-potluck/
LOCATION:Geographe Room\, State Libray of WA\, 25 Francis Street\, Perth\, Western Australia\, 6000\, Australia
ATTACH;FMTTYPE=image/png:https://aliawalt.alia.org.au/wp-content/uploads/2025/02/45th-Birthday-Ad.png
ORGANIZER;CN="ALIA WALT":MAILTO:walibtech@gmail.com
END:VEVENT
BEGIN:VEVENT
DTSTART;TZID=Australia/Perth:20250119T120000
DTEND;TZID=Australia/Perth:20250119T120000
DTSTAMP:20260415T092329
CREATED:20241217T092839Z
LAST-MODIFIED:20241218T003057Z
UID:285-1737288000-1737288000@aliawalt.alia.org.au
SUMMARY:ALIA WALT New Year's Lunch 2025
DESCRIPTION:The ALIA WA Library Technicians (WALT) Group invites you to join us in celebrating the New Year with a waterfront Sunday lunch! \nDate: Sunday the 19th of January\nTime: 12:00pm onwards\nVenue: The Royal on the Waterfront\, 60 Royal Street\, East Perth 6004\nPrice: Pay for your own meal. \nPlease RSVP (link below) as soon as you can.\nWe hope to see you there! \nContact WALT using the email address below for further information.
URL:https://aliawalt.alia.org.au/event/alia-walt-new-years-lunch-2025/
LOCATION:The Royal on the Waterfront\, 60 Royal Street\, East Perth\, Western Australia\, 6004\, Australia
ATTACH;FMTTYPE=image/png:https://aliawalt.alia.org.au/wp-content/uploads/2024/12/Cream-Illustration-New-Years-Day-Social-Media-Graphic1.png
ORGANIZER;CN="ALIA WALT":MAILTO:walibtech@gmail.com
END:VEVENT
BEGIN:VEVENT
DTSTART;TZID=Australia/Perth:20240826T183000
DTEND;TZID=Australia/Perth:20240826T183000
DTSTAMP:20260415T092329
CREATED:20240816T022747Z
LAST-MODIFIED:20240816T023426Z
UID:230-1724697000-1724697000@aliawalt.alia.org.au
SUMMARY:ALIA WALT Meeting August 2024
DESCRIPTION:Our meeting for August 2024 will be held online on the new ALIA WALT Team in the Meetings channel. \nIf you are an existing ALIA WALT member and don’t have access\, please check your emails for a Sharepoint invitation from Brock\, or contact Grace to get an invitation.
URL:https://aliawalt.alia.org.au/event/alia-walt-meeting-august-2024/
LOCATION:Private: ALIA WALT Team on Microsoft Teams
ORGANIZER;CN="ALIA WALT":MAILTO:walibtech@gmail.com
END:VEVENT
BEGIN:VEVENT
DTSTART;TZID=Australia/Perth:20240730T183000
DTEND;TZID=Australia/Perth:20240730T183000
DTSTAMP:20260415T092329
CREATED:20240621T025330Z
LAST-MODIFIED:20240725T090206Z
UID:215-1722364200-1722364200@aliawalt.alia.org.au
SUMMARY:ALIA WALT Library Technician's Day Dinner 2024
DESCRIPTION:The ALIA WA Library Technicians (WALT) Group invites you to join us in celebrating Library & Information Week\, and the role of Library Technicians and all other Library staff in the industry. \nDate: Tuesday the 30th of July\nTime: 6:30pm onwards\nVenue: The Grosvenor Hotel\, 339 Hay Street\, Perth 6000 \nPlease RSVP (link below) as soon as you can.\nWe hope to see you there! \nContact WALT using the email address below for further information.
URL:https://aliawalt.alia.org.au/event/alia-walt-library-technicians-day-dinner-2024/
LOCATION:The Grosvenor Hotel\, 339 Hay Street\, Perth\, WA\, 6000\, Australia
ATTACH;FMTTYPE=image/png:https://aliawalt.alia.org.au/wp-content/uploads/2024/06/Libtech-Day-2024.png
ORGANIZER;CN="ALIA WALT":MAILTO:walibtech@gmail.com
END:VEVENT
END:VCALENDAR